BEGIN:VCALENDAR
VERSION:2.0
PRODID:-//UnionDocs - ECPv6.7.0//NONSGML v1.0//EN
CALSCALE:GREGORIAN
METHOD:PUBLISH
X-ORIGINAL-URL:https://uniondocs.org
X-WR-CALDESC:Events for UnionDocs
REFRESH-INTERVAL;VALUE=DURATION:PT1H
X-Robots-Tag:noindex
X-PUBLISHED-TTL:PT1H
BEGIN:VTIMEZONE
TZID:America/New_York
BEGIN:DAYLIGHT
TZOFFSETFROM:-0500
TZOFFSETTO:-0400
TZNAME:EDT
DTSTART:20200308T070000
END:DAYLIGHT
BEGIN:STANDARD
TZOFFSETFROM:-0400
TZOFFSETTO:-0500
TZNAME:EST
DTSTART:20201101T060000
END:STANDARD
END:VTIMEZONE
BEGIN:VEVENT
DTSTART;TZID=America/New_York:20200206T193000
DTEND;TZID=America/New_York:20200206T193000
DTSTAMP:20260421T082144
CREATED:20200113T233804Z
LAST-MODIFIED:20200203T172439Z
UID:10002464-1581017400-1581017400@uniondocs.org
SUMMARY:RADIO EN DIRECT: The Stoop Presents...Black in Paris
DESCRIPTION:[vc_row][vc_column][vc_empty_space height=”40px”][vc_separator color=”custom” accent_color=”#ffffff”][vc_empty_space height=”40px”][vc_column_text]Our second event for the RADIO EN DIRECT series will be exploring the topic of Black French identity\, specifically looking at what it is to be Black in Paris. For decades\, Paris has been a place where many African Americans have felt at home. We know the stories of Josephine Baker\, Richard Wright or James Baldwin\, who had made it their base. But what is it actually like to be Black in Paris? \nWe are excited to join audio producer and co-host of The Stoop Podcast: Stories from The Black Diaspora\, Leila Day as she facilitates an audio journey exploring how blackness is defined in France and why it is that so many African Americans have been drawn to it. \nEchoing the style of The Stoop podcast\, this evening combines storytelling\, reflection\, audience involvement and commentary to dig deeper into discussion as we look at one woman’s decision to pack up and leave behind what she feels are exhausting racial tensions in the U.S. Framed by her decision to move to Paris\, the evening will dissect why so many have viewed Paris as a post-racial utopia\, and why it is that in France many people feel defining yourself as “black” is an insult. \nSpecial guests include professor and filmmaker Mame-Fatou Niang\, who recently published Identités Françaises\, a book that interrogates notions of marginalization and national identity through an analysis of housing developments outside of French cities\, or “banlieue”. \nThis event is a part of a series organized with Brooklyn Falls for France\, a cultural season organized by the Cultural Services of the French Embassy and FACE Foundation in partnership with Brooklyn venues. \nUnionDocs is thrilled to host RADIO EN DIRECT\, a series of listening events featuring stories from the French-speaking diaspora\, in January and February of 2020. Each event will be centered around an audio documentary—told in French with English subtitles run on the screen— with producers present to speak to the intricacies of the craft and story being told. We are bringing together a mix of local NYC based artists with producers from around the world whose work represents the diverse and widespread French-speaking community. This series will allow listeners to come together to understand how we can see audio as a global medium that works across language\, and reflect the nuanced intimate and universal power of sound\, voice\, and listening in capturing and communicating the human experience. This series is part of Brooklyn Falls for France\, a cultural season organized by the Cultural Services of the French Embassy and FACE Foundation in partnership with Brooklyn venues.[/vc_column_text][vc_empty_space height=”40px”][vc_text_separator title=”Program” color=”white” el_class=”h1″][vc_empty_space height=”40px”][vc_custom_heading text=”The Stoop: Black In Paris” font_container=”tag:h1|text_align:left” use_theme_fonts=”yes”][vc_custom_heading text=”Excerpts” font_container=”tag:p|text_align:left” use_theme_fonts=”yes”][vc_column_text]Leila will be debuting excerpts from the most recent episode of The Stoop. This episode features clips from conversations had between Leila and her friend Deborah Abroal\, examining Deborah’s decision to leave the U.S. and move to Paris. The vevning involves personal story and an audio tour through Paris with Kévi Donat\, founder of Les Paris Noir tours\, as he walks us through historic sites in Paris that relate back to Black French identity. Deborah will be in attendance to participate in conversation following the listening.[/vc_column_text][vc_empty_space height=”40px”][vc_empty_space height=”40px”][vc_text_separator title=”” color=”white” el_class=”h1″][vc_empty_space height=”40px”][/vc_column][/vc_row][vc_row][vc_column width=”1/3″][vc_single_image image=”132878″ img_size=”300×300″][/vc_column][vc_column width=”2/3″][vc_column_text]UnionDocs Advisor Leila Day is an audio producer and editor. She’s co-founder of “The Stoop Podcast: stories from the Black diaspora”\, and “Stoop Talks” on the Luminary podcast network. She’s produced and edited stories for Pineapple Street Media and has worked as a senior reporter at NPR member station KALW in San Francisco. \nHer reporting has garnered national and local awards through the Society of Professional Journalists\, PRINDI\, and the National Association of Black Journalists. \n.\nLeila has a degree in anthropology from the University of North Carolina\, Chapel Hill\, and studied documentary radio at the Salt Institute for Documentary Studies. Before radio life she spent four years in Havana\, Cuba\, where she developed a dance intensive program and was a frequent contributor to Cuba’s national .newspaper\, Juventud Rebelde. You can find some of her reporting advice on NPR’s Training site.[/vc_column_text][/vc_column][/vc_row][vc_row][vc_column width=”1/3″][vc_single_image image=”132877″ img_size=”300×300″][/vc_column][vc_column width=”2/3″][vc_column_text]Claude Grunitzky is the founder of TRACE and TRUE Africa\, a media tech platform championing young African voices all over the world\, online and on television. His brand\, TRACE reaches an audience of more than 200 million people across 150 countries. Claude is often speaking about media as well as engaging in thought provoking conversations about the African Diaspora. Claude Grunitzky was raised between Lomé\, Togo; Washington\, DC; Paris and London. He grew up in London\, speaks six languages and carries three passports\, was exposed to many different cultures. He joins us tonight to talk about blackness in Paris from his personal lens.[/vc_column_text][/vc_column][/vc_row][vc_row][vc_column width=”1/3″][vc_single_image image=”132831″ img_size=”300×300″][/vc_column][vc_column width=”2/3″][vc_column_text]Mame-Fatou Niang is a filmmaker and professor from Dakar\, Senegal. She conducts research on contemporary France\, Sub-Saharan Africa\, Francophone female writers\, Postcolonial and Transnational Studies\, Media\, and Urban Planning at Carnegie Mellon University in the Department of Modern Languages. Her recent research examines the development of Afro-French identities\, and the works of second- and third-generation female immigrant writers of the “banlieu”. She directed Mariannes Noires\, a documentary about Afro-French womanhood where seven French-born women of African descent from radically different backgrounds confront their own unique identities and challenge the expectations of French society.[/vc_column_text][/vc_column][/vc_row]
URL:https://uniondocs.org/event/2020-02-06-radio-en-direct-black-in-paris-the-stoop/
LOCATION:UnionDocs\, 352 Onderdonk Avenue\, 352 Onderdonk Avenue\, Ridgewood\, NY\, 11385\, United States
CATEGORIES:Radio En Direct,Screenings & Events
ATTACH;FMTTYPE=image/png:https://uniondocs.org/wp-content/uploads/2020/01/unnamed.png
GEO:40.7099952;-73.9507576
X-APPLE-STRUCTURED-LOCATION;VALUE=URI;X-ADDRESS=UnionDocs 352 Onderdonk Avenue 352 Onderdonk Avenue Ridgewood NY 11385 United States;X-APPLE-RADIUS=500;X-TITLE=352 Onderdonk Avenue:geo:-73.9507576,40.7099952
END:VEVENT
BEGIN:VEVENT
DTSTART;TZID=America/New_York:20200124T193000
DTEND;TZID=America/New_York:20200124T223000
DTSTAMP:20260421T082144
CREATED:20191224T210401Z
LAST-MODIFIED:20200206T224751Z
UID:10002744-1579894200-1579905000@uniondocs.org
SUMMARY:Radio En Direct: Un Temps de Cochon
DESCRIPTION:[vc_row][vc_column][vc_empty_space height=”40px”][vc_separator color=”custom” accent_color=”#ffffff”][vc_empty_space height=”40px”][vc_column_text]UnionDocs is thrilled to host RADIO EN DIRECT in January 2020\, a series of listening events featuring stories from the French-speaking diaspora. We’re delighted to host the award-winning audio documentary Un Temps de Cochon /  Pig’s Weather from artist Benoit Bories who explores five narratives of exile and refuge in an immersive surround sound audio documentary. \nCalled “a very tight and subtle composition… Benoit Bories proceeds like an archaeologist\, literally as well as figuratively\, gradually revealing with great modesty\, without urgency\, the bruises of exile\, sections of memories that had hitherto remained in the shadows. Documentary\, play or radio work? “Un temps de cochon” are voices\, resonances\, sounds of the present\, snippets of the past\, refrains that remain. To tell as closely as possible the resurgence of memory\, the polyphony of testimonies.” \nThis piece will be introduced by Bories and followed by a conversation led by producer and UNDO Advisor Lu Olkowski. \nThis event is a part of a series organized with Brooklyn Falls for France\, a cultural season organized by the Cultural Services of the French Embassy and FACE Foundation in partnership with Brooklyn venues. \nRADIO EN DIRECT will present a series of events centered around audio documentaries—told in French with English subtitles run on the screen— with producers present to speak to the intricacies of the craft and story being told. We are bringing together a mix of local NYC based artists with producers from around the world whose work represents the diverse and widespread French-speaking community. This series will allow listeners to come together to understand how we can see audio as a global medium that works across language\, and reflect the nuanced intimate and universal power of sound\, voice\, and listening in capturing and communicating the human experience.[/vc_column_text][vc_empty_space height=”40px”][vc_text_separator title=”Program” color=”white” el_class=”h1″][vc_custom_heading text=”Pig’s Weather” font_container=”tag:h1|text_align:left” use_theme_fonts=”yes”][vc_custom_heading text=”48 min.\, 2017″ font_container=”tag:p|text_align:left” use_theme_fonts=”yes”][vc_column_text]Produced by documentarian Benoit Bories\, Pig’s Weather captures the harrowing experience of refugees fleeing the Spanish Civil War. In the midst of the “Retirada\,” the exodus of Spanish and Catalan Republican refugees from Spain\, Mercedes\, Floréal\, and Joaquim cross the Franco-Spanish border to avoid the advancement of General Franco’s Nationalist troops. Once in France\, Joaquim is transported to the Septfonds internment camp and faces an agonizing fate. At risk today of becoming an industrial pork processing facility\, Septfonds serves as a distressing symbol of war and suffering that Spanish exiles and their descendants continue to carry in their memories.[/vc_column_text][vc_empty_space height=”40px”][vc_text_separator title=”60 min” color=”white” el_class=”h1″][vc_empty_space height=”40px”][/vc_column][/vc_row][vc_row][vc_column width=”1/3″][vc_single_image image=”130567″ img_size=”full”][/vc_column][vc_column width=”2/3″][vc_column_text]Benoit Bories is a documentarist and sound creator. He produces audio documentaries for France Culture\, Arte Radio\, Radio France International\, RTBF and ABC Radio. He also works sound creations in the field of the live performance and trans-media productions (web-documentary\, installations).[/vc_column_text][/vc_column][/vc_row][vc_row][vc_column width=”1/3″][vc_single_image image=”130569″ img_size=”full”][/vc_column][vc_column width=”2/3″][vc_column_text]Lu Olkowski is a regular contributor to WNYC’s Studio360. Lu has also produced stories for All Things Considered\, Day to Day\, Radio Lab\, This American Life\, and Weekend America. Her radio work has been honored by the American Women in Radio & Television\, the international competition New York Festivals\, the literary magazine The Missouri Review and the Third Coast International Audio Festival. Her profile of documentary director Zana Briski won a Gracie Award in 2006.[/vc_column_text][/vc_column][/vc_row][vc_row][vc_column][vc_column_text]Un temps de cochon/ Pig’s weather »\, a documentary concert in immersive sound 8.1. A “Le Labo Espace2-RTS” (Swiss and Radio Television) production 2019 supported by Gulliver fund (RTS\, RTBF\, SCAM\, SACD France and Belgium)\, La Région Occitanie-Pyrénées-Méditerrannée and the musical creation studio Eole.[/vc_column_text][/vc_column][/vc_row][vc_row][vc_column][vc_single_image image=”130758″ img_size=”” alignment=”center”][/vc_column][/vc_row]
URL:https://uniondocs.org/event/2020-01-24-pigs-weather-un-temps-do-cochon/
LOCATION:UnionDocs\, 352 Onderdonk Avenue\, 352 Onderdonk Avenue\, Ridgewood\, NY\, 11385\, United States
CATEGORIES:Radio En Direct,Screenings & Events
ATTACH;FMTTYPE=image/jpeg:https://uniondocs.org/wp-content/uploads/2019/12/624-1.jpg
GEO:40.7099952;-73.9507576
X-APPLE-STRUCTURED-LOCATION;VALUE=URI;X-ADDRESS=UnionDocs 352 Onderdonk Avenue 352 Onderdonk Avenue Ridgewood NY 11385 United States;X-APPLE-RADIUS=500;X-TITLE=352 Onderdonk Avenue:geo:-73.9507576,40.7099952
END:VEVENT
END:VCALENDAR