BEGIN:VCALENDAR
VERSION:2.0
PRODID:-//UnionDocs - ECPv6.7.0//NONSGML v1.0//EN
CALSCALE:GREGORIAN
METHOD:PUBLISH
X-ORIGINAL-URL:https://uniondocs.org
X-WR-CALDESC:Events for UnionDocs
REFRESH-INTERVAL;VALUE=DURATION:PT1H
X-Robots-Tag:noindex
X-PUBLISHED-TTL:PT1H
BEGIN:VTIMEZONE
TZID:America/New_York
BEGIN:DAYLIGHT
TZOFFSETFROM:-0500
TZOFFSETTO:-0400
TZNAME:EDT
DTSTART:20180311T070000
END:DAYLIGHT
BEGIN:STANDARD
TZOFFSETFROM:-0400
TZOFFSETTO:-0500
TZNAME:EST
DTSTART:20181104T060000
END:STANDARD
END:VTIMEZONE
BEGIN:VEVENT
DTSTART;TZID=America/New_York:20180714T150000
DTEND;TZID=America/New_York:20180714T210000
DTSTAMP:20260423T072720
CREATED:20180710T173842Z
LAST-MODIFIED:20180713T172114Z
UID:10002318-1531580400-1531602000@uniondocs.org
SUMMARY:Happy Family Night Market
DESCRIPTION:[vc_row][vc_column][vc_separator color=”custom” accent_color=”#ffffff”][vc_empty_space height=”40px”][vc_column_text]A day-long event that celebrates the rise and triumph of Asian-American cuisine taking place on Saturday\, July 14 in Brooklyn.[/vc_column_text][vc_empty_space height=”40px”][vc_text_separator title=”Program One” color=”white” el_class=”h1″][vc_empty_space height=”40px”][vc_column_text]From a Pancit (Filipino Spaghetti) Western take on sisterly revenge to the real life tale of a young girl in India whose tiny garden is the key to her future\, the families in this shorts program are drawn together and propelled forward by growing\, making\, and of course eating\, food. Part of a film series at Happy Family Night Market that explores Asian and Asian American identity expressed through food\, curated by Angeline Gragasin and Farihah Zaman.[/vc_column_text][vc_empty_space height=”40px”][vc_separator color=”custom” accent_color=”#ffffff”][vc_empty_space height=”40px”][vc_custom_heading text=”Shotgun Tuding” font_container=”tag:h1|text_align:left” use_theme_fonts=”yes”][vc_custom_heading text=”Shireen Seno\, 16mm\, 13 min.\, 2014\, Philippines / Malaysia” font_container=”tag:p|text_align:left” use_theme_fonts=”yes”][vc_column_text]Tuding arrives at a distant town to track down the man who got her youngest sister pregnant\, and she isn’t going home without him. Set in late-1940s Philippines\, a tribute to pancit westerns (pancit being the Philippine equivalent of spaghetti). A Los Otros x Tito & Tita production and WOMEN:girls initiative presented by Garang Pictures and Big Eyes Entertainment[/vc_column_text][vc_empty_space height=”40px”][vc_custom_heading text=”After My Garden Grows” font_container=”tag:h1|text_align:left” use_theme_fonts=”yes”][vc_custom_heading text=”Megan Mylan\, 10 min.\, 2014\, India\n” font_container=”tag:p|text_align:left” use_theme_fonts=”yes”][vc_column_text]From Oscar® winner Megan Mylan\, this short doc tells the story of Monika\, a rural Indian teenager growing food to feed her family\, and the seeds of her own independence\, in a tiny rooftop garden.[/vc_column_text][vc_empty_space height=”40px”][vc_custom_heading text=”Music is Magic” font_container=”tag:h1|text_align:left” use_theme_fonts=”yes”][vc_custom_heading text=”Alison S. M. Kobayashi\, 14 min.\, 2016\, Canada.\n” font_container=”tag:p|text_align:left” use_theme_fonts=”yes”][vc_column_text] \n\n\nA film about Sisterhood\, music and teenage lust using family archival footage. Part of Rites of Passage\, commissioned by the Reel Asian Film Festival. This project was made possible through funding from the Inter-Action Multiculturalism Program supported by the Department of Canadian Heritage. \n\n\n[/vc_column_text][vc_empty_space height=”40px”][vc_custom_heading text=”A Son’s Sacrifice” font_container=”tag:h1|text_align:left” use_theme_fonts=”yes”][vc_custom_heading text=”Yoni Brook\, 30 min.\, 2007\, USA.” font_container=”tag:p|text_align:left” use_theme_fonts=”yes”][vc_column_text]This award-winning short follows the journey of Imran\, a young American Muslim who struggles to take over his father’s halal slaughterhouse in Queens.[/vc_column_text][vc_empty_space height=”40px”][vc_text_separator title=”70 min” color=”white” el_class=”h1″][vc_empty_space height=”40px”][vc_column_text]3:00 pm – Doors open to food & art marketplace\n4:15 pm – Doors open to screening room\n4:20 pm – Film screening begins\n5:30 pm – Program concludes[/vc_column_text][vc_empty_space height=”40px”][/vc_column][/vc_row][vc_row][vc_column][vc_text_separator title=”Program Two” color=”white” el_class=”h1″][vc_empty_space height=”40px”][vc_column_text]What exactly does food reflect about Asian Pacific Americans? Off the Menu: Asian America grapples with how family\, tradition\, faith\, and geography shape our relationship to food. Part of a film series at Happy Family Night Market that explores Asian and Asian American identity expressed through food\, curated by Angeline Gragasin and Farihah Zaman.[/vc_column_text][vc_empty_space height=”40px”][vc_separator color=”custom” accent_color=”#ffffff”][vc_empty_space height=”40px”][vc_custom_heading text=”Off The Menu” font_container=”tag:h1|text_align:left” use_theme_fonts=”yes”][vc_custom_heading text=”Grace Lee\, 55 min.\, 2015\, USA.\n” font_container=”tag:p|text_align:left” use_theme_fonts=”yes”][vc_column_text]Lee’s film takes audiences on a journey from Texas to New York and from Wisconsin to Hawaii using our obsession with food as a launching point to delve into a wealth of stories\, traditions\, and unexpected characters that help nourish this nation of immigrants. Off The Menu is a roadtrip into the kitchens\, factories\, temples and farms of Asian Pacific America that explores how our relationship to food reflects our evolving community. \nThe feature documentary is a one-hour PBS primetime special co-produced by the Center for Asian American Media and KQED\, with funding provided by the Corporation for Public Broadcasting.[/vc_column_text][vc_empty_space height=”40px”][vc_text_separator title=”55 min” color=”white” el_class=”h1″][vc_empty_space height=”40px”][vc_column_text]3:00 pm – Doors open to food & art marketplace\n5:30 pm – Doors open to screening room\n5:35 pm – Film screening begins\n6:30 pm – Program concludes[/vc_column_text][vc_empty_space height=”40px”][/vc_column][/vc_row][vc_row][vc_column][vc_text_separator title=”Program Three” color=”white” el_class=”h1″][vc_empty_space height=”40px”][vc_column_text]Food truly is the way to the heart in this program of four short films about love—from an animated dance between three joyous mochi\, to the decades-long marriage of a Chinese farming couple in New Zealand. Part of a film series at Happy Family Night Market that explores Asian and Asian American identity expressed through food\, curated by Angeline Gragasin and Farihah Zaman. [/vc_column_text][vc_empty_space height=”40px”][vc_separator color=”custom” accent_color=”#ffffff”][vc_custom_heading text=”Fly” font_container=”tag:h1|text_align:left” use_theme_fonts=”yes”][vc_custom_heading text=”Baku Hashimoto\, 3 min.\, 2018\, Japan.\n” font_container=”tag:p|text_align:left” use_theme_fonts=”yes”][vc_column_text]A playful and gravity-defying stop-motion animation featuring a cast of characters made of mochi.\n[/vc_column_text][vc_empty_space height=”40px”][vc_custom_heading text=”Miss World” font_container=”tag:h1|text_align:left” use_theme_fonts=”yes”][vc_custom_heading text=”Georgia Fu\, 20 min.\, 16mm\, 2017\, Taiwan.\n” font_container=”tag:p|text_align:left” use_theme_fonts=”yes”][vc_column_text]A young woman comes home to Taiwan\, to say goodbye to her father before he goes to prison.[/vc_column_text][vc_empty_space height=”40px”][vc_custom_heading text=”Two Dosas” font_container=”tag:h1|text_align:left” use_theme_fonts=”yes”][vc_custom_heading text=”Sarmad Masud\, 16 min.\, 2014\, UK.\n” font_container=”tag:p|text_align:left” use_theme_fonts=”yes”][vc_column_text]Geeky Pavan takes his ‘English Rose’ on a date to the most authentic Indian restaurant in the city. To his horror she goes off-menu\, in Hindi…[/vc_column_text][vc_empty_space height=”40px”][vc_custom_heading text=”How Mr and Mrs Gock Saved the Kumara” font_container=”tag:h1|text_align:left” use_theme_fonts=”yes”][vc_custom_heading text=”Felicity Morgan-Rhind\, 4min\, 2016\, New Zealand.” font_container=”tag:p|text_align:left” use_theme_fonts=”yes”][vc_column_text]New Zealand gave two young Chinese refugees citizenship in the 1940’s\, who later found an unlikely way to return the gift – by saving the almighty kumara.[/vc_column_text][vc_empty_space height=”40px”][vc_text_separator title=”43 min” color=”white” el_class=”h1″][vc_empty_space height=”40px”][vc_column_text]3:00 pm – Doors open to food & art marketplace\n8:00 pm – Doors open to screening room\n8:10 pm – Film screening begins\n8:55 pm – Program concludes[/vc_column_text][vc_text_separator title=”Bios” color=”white” el_class=”h1″][/vc_column][/vc_row][vc_row][vc_column width=”1/4″][vc_single_image image=”106741″][/vc_column][vc_column width=”3/4″][vc_column_text]Angeline Gragasin is a writer\, filmmaker\, and researcher who tells stories about ecology\, memory\, and power. She is currently completing an MFA in Screenwriting at the Feirstein Graduate School of Cinema at Brooklyn College. She is a graduate of The University of Chicago\, and a recent alum of NEW INC\, the New Museum’s incubator for artists and creative entrepreneurs. She is currently in production with her first podcast\, in development with her first feature film\, and working on her first VR project in partnership with The Moth. She writes for Screen Slate. [/vc_column_text][/vc_column][/vc_row][vc_row][vc_column width=”1/4″][vc_single_image image=”106742″][/vc_column][vc_column width=”3/4″][vc_column_text]Farihah Zaman is a filmmaker\, critic\, and programmer. Her diverse background in the film industry includes working as the production manager for Field of Vision\, acquisitions manager at Magnolia Pictures\, and program manager for The Flaherty Seminar. Her latest film Feast of the Epiphany recently premiered at BAM Cinemafest 2018. She writes for Reverse Shot\, Huffington Post\, Film Comment\, and The A.V. Club\, among others.[/vc_column_text][/vc_column][/vc_row][vc_row][vc_column][vc_empty_space height=”40px”][vc_column_text] \nMore Details and Tickets can be found on the Happy Family Night Market Website! \n[/vc_column_text][/vc_column][/vc_row]
URL:https://uniondocs.org/event/happy-family-night-market/
LOCATION:99 Scott\, 99 Scott Ave\, Brooklyn\, NY\, 11237\, United States
CATEGORIES:Screenings & Events
ATTACH;FMTTYPE=image/jpeg:https://uniondocs.org/wp-content/uploads/2018/07/How-Mr-Mrs-Gock-Saved-the-Kumara.jpg
GEO:40.7105638;-73.9233984
X-APPLE-STRUCTURED-LOCATION;VALUE=URI;X-ADDRESS=99 Scott 99 Scott Ave Brooklyn NY 11237 United States;X-APPLE-RADIUS=500;X-TITLE=99 Scott Ave:geo:-73.9233984,40.7105638
END:VEVENT
END:VCALENDAR